BEGIN:VCALENDAR
VERSION:2.0
PRODID:-//EO MADRID - ECPv6.15.12.2//NONSGML v1.0//EN
CALSCALE:GREGORIAN
METHOD:PUBLISH
X-ORIGINAL-URL:https://eomadrid.org
X-WR-CALDESC:Eventos para EO MADRID
REFRESH-INTERVAL;VALUE=DURATION:PT1H
X-Robots-Tag:noindex
X-PUBLISHED-TTL:PT1H
BEGIN:VTIMEZONE
TZID:Europe/Madrid
BEGIN:DAYLIGHT
TZOFFSETFROM:+0100
TZOFFSETTO:+0200
TZNAME:CEST
DTSTART:20230326T010000
END:DAYLIGHT
BEGIN:STANDARD
TZOFFSETFROM:+0200
TZOFFSETTO:+0100
TZNAME:CET
DTSTART:20231029T010000
END:STANDARD
BEGIN:DAYLIGHT
TZOFFSETFROM:+0100
TZOFFSETTO:+0200
TZNAME:CEST
DTSTART:20240331T010000
END:DAYLIGHT
BEGIN:STANDARD
TZOFFSETFROM:+0200
TZOFFSETTO:+0100
TZNAME:CET
DTSTART:20241027T010000
END:STANDARD
BEGIN:DAYLIGHT
TZOFFSETFROM:+0100
TZOFFSETTO:+0200
TZNAME:CEST
DTSTART:20250330T010000
END:DAYLIGHT
BEGIN:STANDARD
TZOFFSETFROM:+0200
TZOFFSETTO:+0100
TZNAME:CET
DTSTART:20251026T010000
END:STANDARD
END:VTIMEZONE
BEGIN:VEVENT
DTSTART;TZID=Europe/Madrid:20240516T193000
DTEND;TZID=Europe/Madrid:20240516T223000
DTSTAMP:20260424T141934
CREATED:20240318T155304Z
LAST-MODIFIED:20240401T133651Z
UID:4522-1715887800-1715898600@eomadrid.org
SUMMARY:HAPPY HOUR
DESCRIPTION:
URL:https://eomadrid.org/event/happy-hour-19/
CATEGORIES:EVENTOS SOCIALES
END:VEVENT
BEGIN:VEVENT
DTSTART;TZID=Europe/Madrid:20240516T210000
DTEND;TZID=Europe/Madrid:20240516T223000
DTSTAMP:20260424T141934
CREATED:20240305T172211Z
LAST-MODIFIED:20240305T172211Z
UID:4503-1715893200-1715898600@eomadrid.org
SUMMARY:CENA DE PRESIDENTES
DESCRIPTION:
URL:https://eomadrid.org/event/cena-de-presidentes-2/
LOCATION:THE WAREHOUSE\, María de Molina\, 25\, Madrid\, Madrid\, 28006\, España
CATEGORIES:EVENTOS SOCIALES
END:VEVENT
BEGIN:VEVENT
DTSTART;TZID=Europe/Madrid:20240520T160000
DTEND;TZID=Europe/Madrid:20240520T200000
DTSTAMP:20260424T141934
CREATED:20240205T181724Z
LAST-MODIFIED:20240425T193436Z
UID:4323-1716220800-1716235200@eomadrid.org
SUMMARY:FORO 6
DESCRIPTION:Tendrá lugar en casa de Sascha Badelt.
URL:https://eomadrid.org/event/foro-6-12/
CATEGORIES:Foro 6
END:VEVENT
BEGIN:VEVENT
DTSTART;TZID=Europe/Madrid:20240522T101500
DTEND;TZID=Europe/Madrid:20240522T141500
DTSTAMP:20260424T141934
CREATED:20231027T110603Z
LAST-MODIFIED:20231202T142532Z
UID:4049-1716372900-1716387300@eomadrid.org
SUMMARY:FORO 7
DESCRIPTION:
URL:https://eomadrid.org/event/foro-7-17/
CATEGORIES:Foro 7
ORGANIZER;CN="M%C3%B3nica Vicente":MAILTO:info@hoynohaycole.com
END:VEVENT
BEGIN:VEVENT
DTSTART;TZID=Europe/Madrid:20240522T183000
DTEND;TZID=Europe/Madrid:20240522T204500
DTSTAMP:20260424T141934
CREATED:20240509T085624Z
LAST-MODIFIED:20240510T153615Z
UID:4636-1716402600-1716410700@eomadrid.org
SUMMARY:LEARNING NAVEGANDO EN LA ERA DE LA CIBERDELINCUENCIA
DESCRIPTION:El 22 de mayo de 18:30 a 20:00 tendremos una sesión sobre ciberseguridad: Navegando en la Era de la Ciberdelincuencia: Desafíos y Respuestas en un Mundo Conectado \nSerá en la UCJC de Almagro en la planta -1 (S1)\, seguida de un cocktail de networking hasta las 20:45. \nLink de registro AQUÍ \n¡Os esperamos!
URL:https://eomadrid.org/event/learning-navegando-en-la-era-de-la-ciberdelincuencia-desafios-y-respuestas-en-un-mundo-conectado/
LOCATION:Universidad Camilo José Cela\, Calle de Almagro\, 5\, Chamberí\, Madrid\, Madrid\, 28010
CATEGORIES:LEARNING
ATTACH;FMTTYPE=image/jpeg:https://eomadrid.org/wp-content/uploads/2024/05/Learning-Ciberdelincuencia.jpg
END:VEVENT
BEGIN:VEVENT
DTSTART;TZID=Europe/Madrid:20240529T170000
DTEND;TZID=Europe/Madrid:20240529T200000
DTSTAMP:20260424T141934
CREATED:20230717T114547Z
LAST-MODIFIED:20240416T121859Z
UID:3689-1717002000-1717012800@eomadrid.org
SUMMARY:BOARD AMPLIADO
DESCRIPTION:
URL:https://eomadrid.org/event/board-ampliado-7/
CATEGORIES:BOARD
END:VEVENT
BEGIN:VEVENT
DTSTART;TZID=Europe/Madrid:20240529T203000
DTEND;TZID=Europe/Madrid:20240529T223000
DTSTAMP:20260424T141934
CREATED:20230717T114624Z
LAST-MODIFIED:20240416T121925Z
UID:3691-1717014600-1717021800@eomadrid.org
SUMMARY:CENA DEL BOARD
DESCRIPTION:
URL:https://eomadrid.org/event/cena-del-board/
CATEGORIES:BOARD
END:VEVENT
END:VCALENDAR