BEGIN:VCALENDAR
VERSION:2.0
PRODID:-//EO MADRID - ECPv6.15.12.2//NONSGML v1.0//EN
CALSCALE:GREGORIAN
METHOD:PUBLISH
X-ORIGINAL-URL:https://eomadrid.org
X-WR-CALDESC:Eventos para EO MADRID
REFRESH-INTERVAL;VALUE=DURATION:PT1H
X-Robots-Tag:noindex
X-PUBLISHED-TTL:PT1H
BEGIN:VTIMEZONE
TZID:Europe/Madrid
BEGIN:DAYLIGHT
TZOFFSETFROM:+0100
TZOFFSETTO:+0200
TZNAME:CEST
DTSTART:20230326T010000
END:DAYLIGHT
BEGIN:STANDARD
TZOFFSETFROM:+0200
TZOFFSETTO:+0100
TZNAME:CET
DTSTART:20231029T010000
END:STANDARD
BEGIN:DAYLIGHT
TZOFFSETFROM:+0100
TZOFFSETTO:+0200
TZNAME:CEST
DTSTART:20240331T010000
END:DAYLIGHT
BEGIN:STANDARD
TZOFFSETFROM:+0200
TZOFFSETTO:+0100
TZNAME:CET
DTSTART:20241027T010000
END:STANDARD
BEGIN:DAYLIGHT
TZOFFSETFROM:+0100
TZOFFSETTO:+0200
TZNAME:CEST
DTSTART:20250330T010000
END:DAYLIGHT
BEGIN:STANDARD
TZOFFSETFROM:+0200
TZOFFSETTO:+0100
TZNAME:CET
DTSTART:20251026T010000
END:STANDARD
END:VTIMEZONE
BEGIN:VEVENT
DTSTART;TZID=Europe/Madrid:20240110T163000
DTEND;TZID=Europe/Madrid:20240110T203000
DTSTAMP:20260424T221528
CREATED:20240102T165043Z
LAST-MODIFIED:20240110T131504Z
UID:4179-1704904200-1704918600@eomadrid.org
SUMMARY:FORO 9
DESCRIPTION:
URL:https://eomadrid.org/event/foro-9-6/
LOCATION:GSG Serrano\, C/ Serrano\, 110\, Madrid\, Madrid\, 28006\, España
CATEGORIES:Foro 9
END:VEVENT
BEGIN:VEVENT
DTSTART;TZID=Europe/Madrid:20240111T170000
DTEND;TZID=Europe/Madrid:20240111T210000
DTSTAMP:20260424T221528
CREATED:20221008T173311Z
LAST-MODIFIED:20231214T124847Z
UID:1803-1704992400-1705006800@eomadrid.org
SUMMARY:TEST DRIVE & CAÑAS
DESCRIPTION:¿Qué es Test Drive & Cañas? \nEs el momento en que conocerás mucho mejor lo que ocurre en EO Madrid\, porqué nos entregamos y nos sentimos como una familia. Por qué formar parte de EO Madrid te ayudará a ser la mejor versión de ti. \n¿Quieres formar parte de EO?  \nSi crees que cumples los requisitos* para formar parte de nuestra Comunidad de Empresarios\, te invitamos a conocernos mucho mejor\, regístrate en este link y nos pondremos en contacto contigo: \n \nRequisitos para formar parte de EO: \n\nSer CEO\, Fundador\, o Co Fundador de una o varias empresas.\nHaber facturado más de 1 mill de USD en el pasado ejercicio fiscal.\nTener ánimo de compartir experiencias y tiempo para hacerlo.
URL:https://eomadrid.org/event/test-drive-canas-4/
CATEGORIES:MEMBERSHIP
ORGANIZER;CN="Miguel A. Fern%C3%A1ndez":MAILTO:miguel@laurelcatering.com
END:VEVENT
BEGIN:VEVENT
DTSTART;TZID=Europe/Madrid:20240116T140000
DTEND;TZID=Europe/Madrid:20240116T200000
DTSTAMP:20260424T221528
CREATED:20231115T140119Z
LAST-MODIFIED:20231115T140119Z
UID:4079-1705413600-1705435200@eomadrid.org
SUMMARY:FORO 3
DESCRIPTION:Comida y foro
URL:https://eomadrid.org/event/foro-3-14/
CATEGORIES:Foro 3
END:VEVENT
BEGIN:VEVENT
DTSTART;TZID=Europe/Madrid:20240117T160000
DTEND;TZID=Europe/Madrid:20240117T200000
DTSTAMP:20260424T221528
CREATED:20240103T125517Z
LAST-MODIFIED:20240104T081918Z
UID:4184-1705507200-1705521600@eomadrid.org
SUMMARY:FORO 2
DESCRIPTION:
URL:https://eomadrid.org/event/foro-3-17/
LOCATION:GSG Serrano\, C/ Serrano\, 110\, Madrid\, Madrid\, 28006\, España
CATEGORIES:Foro 2
END:VEVENT
BEGIN:VEVENT
DTSTART;VALUE=DATE:20240118
DTEND;VALUE=DATE:20240122
DTSTAMP:20260424T221528
CREATED:20231205T133648Z
LAST-MODIFIED:20231205T133648Z
UID:4164-1705536000-1705881599@eomadrid.org
SUMMARY:RETIRO FORO 6
DESCRIPTION:
URL:https://eomadrid.org/event/retiro-foro-6/
CATEGORIES:Foro 6
END:VEVENT
BEGIN:VEVENT
DTSTART;TZID=Europe/Madrid:20240118T163000
DTEND;TZID=Europe/Madrid:20240118T183000
DTSTAMP:20260424T221528
CREATED:20231017T112944Z
LAST-MODIFIED:20231017T113449Z
UID:4034-1705595400-1705602600@eomadrid.org
SUMMARY:REUNIÓN DE MODERADORES
DESCRIPTION:
URL:https://eomadrid.org/event/reunion-de-moderadores-4/
LOCATION:GSG Serrano\, C/ Serrano\, 110\, Madrid\, Madrid\, 28006\, España
CATEGORIES:MODERADORES
END:VEVENT
BEGIN:VEVENT
DTSTART;TZID=Europe/Madrid:20240118T193000
DTEND;TZID=Europe/Madrid:20240118T235900
DTSTAMP:20260424T221528
CREATED:20240110T131349Z
LAST-MODIFIED:20240110T131601Z
UID:4192-1705606200-1705622340@eomadrid.org
SUMMARY:HAPPY HOUR
DESCRIPTION:EO Madrid forma parte de la organización de #emprendedores con más miembros alrededor del mundo. Te invitamos a conocernos en un espacio abierto de networking: el Happy Hour del Emprendimiento. \nEl evento está abierto a emprendedores y startups\, aceleradoras\, business angels e inversores; servicios de coworking\, gestorías\, notarías\, instituciones\, organizaciones y prensa. \nEl objetivo del Happy Hour del emprendimiento es conformar un espacio distendido en el que los diferentes perfiles puedan formar redes y beneficiarse los unos de los otros. \nEl evento es únicamente por invitación. Solo se admite una persona por empresa/institución. \nCualquier duda o inconveniente contacta con eohappyhour@eomadrid.org \n¡No te lo pierdas! Próximamente recibirás la convocatoria por e-mail.
URL:https://eomadrid.org/event/happy-hour-13/
LOCATION:Lamucca de fuencarral\, Calle de Fuencarral 95\, Madrid\, Madrid\, 28004
CATEGORIES:EVENTOS SOCIALES
ATTACH;FMTTYPE=image/jpeg:https://eomadrid.org/wp-content/uploads/2024/01/Enero-2024.jpg
END:VEVENT
BEGIN:VEVENT
DTSTART;TZID=Europe/Madrid:20240123T170000
DTEND;TZID=Europe/Madrid:20240123T200000
DTSTAMP:20260424T221528
CREATED:20230717T114204Z
LAST-MODIFIED:20240110T160020Z
UID:3681-1706029200-1706040000@eomadrid.org
SUMMARY:BOARD AMPLIADO
DESCRIPTION:
URL:https://eomadrid.org/event/board-reducido-3/
LOCATION:GSG Serrano\, C/ Serrano\, 110\, Madrid\, Madrid\, 28006\, España
CATEGORIES:BOARD
END:VEVENT
BEGIN:VEVENT
DTSTART;TZID=Europe/Madrid:20240124T101500
DTEND;TZID=Europe/Madrid:20240124T141500
DTSTAMP:20260424T221528
CREATED:20231027T110428Z
LAST-MODIFIED:20231202T142414Z
UID:4041-1706091300-1706105700@eomadrid.org
SUMMARY:FORO 7
DESCRIPTION:
URL:https://eomadrid.org/event/foro-7-13/
CATEGORIES:Foro 7
ORGANIZER;CN="M%C3%B3nica Vicente":MAILTO:info@hoynohaycole.com
END:VEVENT
BEGIN:VEVENT
DTSTART;TZID=Europe/Madrid:20240125T160000
DTEND;TZID=Europe/Madrid:20240125T200000
DTSTAMP:20260424T221528
CREATED:20240103T125708Z
LAST-MODIFIED:20240103T125708Z
UID:4188-1706198400-1706212800@eomadrid.org
SUMMARY:FORO 4
DESCRIPTION:
URL:https://eomadrid.org/event/foro-4-9/
LOCATION:GSG Serrano\, C/ Serrano\, 110\, Madrid\, Madrid\, 28006\, España
CATEGORIES:Foro 4
END:VEVENT
BEGIN:VEVENT
DTSTART;TZID=Europe/Madrid:20240126T180000
DTEND;TZID=Europe/Madrid:20240126T200000
DTSTAMP:20260424T221528
CREATED:20240112T151132Z
LAST-MODIFIED:20240112T153056Z
UID:4235-1706292000-1706299200@eomadrid.org
SUMMARY:ENCUENTRO EO FITUR
DESCRIPTION:¡Únete a nosotros para celebrar la presencia de nuestros EOers en Madrid que están asistiendo a Fitur\, la gran feria internacional de turismo! \nHabrá una recepción de 18:00h a 20:00h en el exclusivo Luxury Purple Club (C. de Alfonso XII\, 32\, Retiro\, 28014 Madrid) con unas fantásticas vistas al parque del retiro\, donde tendremos la oportunidad de compartir tiempo juntos.\nPosteriormente\, para aquellos que lo deseen\, se organizará una self-paid dinner en Lamucca de Prado (C. del Prado\, 16\, Centro\, 28014 Madrid) con un menú de 40€ (bebidas no incluidas) de 20:30h a 22:30h. Para los que quieran atender a la cena por favor envíen un email a admin@eomadrid.org confirmando su asistencia.\n\nREGÍSTRATE AQUÍ\n\n*Plazas limitadas
URL:https://eomadrid.org/event/encuentro-eo-fitur/
LOCATION:Luxury Purple Club\, C. de Alfonso XII\, 32\, Retiro\,\, Madrid\, Madrid\, 28014
CATEGORIES:EVENTOS SOCIALES
ATTACH;FMTTYPE=image/jpeg:https://eomadrid.org/wp-content/uploads/2024/01/Encuentro-EO-Fitur-26-Ene-1.jpg
END:VEVENT
BEGIN:VEVENT
DTSTART;TZID=Europe/Madrid:20240129T153000
DTEND;TZID=Europe/Madrid:20240129T200000
DTSTAMP:20260424T221528
CREATED:20231220T180846Z
LAST-MODIFIED:20240115T145607Z
UID:4173-1706542200-1706558400@eomadrid.org
SUMMARY:LEARNING: DESIGN THINKING PARTE 1
DESCRIPTION:El Design Thinking es una metodología para generar ideas innovadoras\, que centra su eficacia enentender y dar solución a las necesidades reales de los usuarios. \nNos ayuda a procesar y organizar información para obtener un resultado aplicable a la mejora oinnovación de un producto. \nEs un proceso de innovación centrado en las personas\, que hace hincapié en la observación\, lacolaboración\, el aprendizaje rápido\, la visualización de las ideas\, la creación rápida de prototipos\, elanálisis de negocio y la competencia y que afecta\, en última instancia\, tanto a la innovación\, como a laestrategia de negocio.\n\nSe puede aplicar a cualquier campo\, desde el desarrollo de productos o servicios hasta la mejora de procesos o la definición de modelos de negocio.\n\n¡Únete a este Learning de dos días para potenciar el pensamiento “Out of the box” y disfrutar de técnicas colaborativas\, dirigidas a generar cambio e innovación en la organización!\n\nPara inscribirse ponerse en contacto con Paula.\n\n*Plazas limitadas
URL:https://eomadrid.org/event/learning-design-thinking/
LOCATION:Universidad Europea\, Avda. Fernando Alonso\, 8\, Alcobendas\, Madrid\, 28108
CATEGORIES:LEARNING
ATTACH;FMTTYPE=image/jpeg:https://eomadrid.org/wp-content/uploads/2023/12/Learning-Design-Thinking-29-31-Ene-1.jpg
END:VEVENT
BEGIN:VEVENT
DTSTART;TZID=Europe/Madrid:20240131T153000
DTEND;TZID=Europe/Madrid:20240131T200000
DTSTAMP:20260424T221528
CREATED:20231220T180929Z
LAST-MODIFIED:20240115T145638Z
UID:4176-1706715000-1706731200@eomadrid.org
SUMMARY:LEARNING: DESIGN THINKING PARTE 2
DESCRIPTION:El Design Thinking es una metodología para generar ideas innovadoras\, que centra su eficacia en entender y dar solución a las necesidades reales de los usuarios. \nNos ayuda a procesar y organizar información para obtener un resultado aplicable a la mejora o innovación de un producto.\nEs un proceso de innovación centrado en las personas\, que hace hincapié en la observación\, la colaboración\, el aprendizaje rápido\, la visualización de las ideas\, la creación rápida de prototipos\, el análisis de negocio y la competencia y que afecta\, en última instancia\, tanto a la innovación\, como a la estrategia de negocio.\n\nSe puede aplicar a cualquier campo\, desde el desarrollo de productos o servicios hasta la mejora de procesos o la definición de modelos de negocio.\n\n¡Únete a este Learning de dos días para potenciar el pensamiento “Out of the box” y disfrutar de técnicas colaborativas\, dirigidas a generar cambio e innovación en la organización!\n\nPara inscribirse ponerse en contacto con Paula.\n\n*Plazas limitadas
URL:https://eomadrid.org/event/learning-design-thinking-2/
LOCATION:Universidad Europea\, Avda. Fernando Alonso\, 8\, Alcobendas\, Madrid\, 28108
CATEGORIES:LEARNING
ATTACH;FMTTYPE=image/jpeg:https://eomadrid.org/wp-content/uploads/2023/12/Learning-Design-Thinking-29-31-Ene-1.jpg
END:VEVENT
BEGIN:VEVENT
DTSTART;TZID=Europe/Madrid:20240201T170000
DTEND;TZID=Europe/Madrid:20240201T200000
DTSTAMP:20260424T221528
CREATED:20240124T170956Z
LAST-MODIFIED:20240124T180054Z
UID:4251-1706806800-1706817600@eomadrid.org
SUMMARY:SEMIFINAL GSEA
DESCRIPTION:Que es GSEA?\nLos Global Student Entrepreneur Awards (GSEA) son la principal competencia mundial para estudiantes que poseen y operan una empresa mientras asisten a la universidad. Los nominados compiten contra sus pares de todo el mundo en una serie de competencias locales y nacionales con la esperanza de clasificarse para las Finales Globales.\n\n¿De que es el evento?\nVamos a seleccionar 3 proyectos que van a representar a EO Madrid en la final de España el día 7 de Febrero en Barcelona. Desde allí van a avanzar 2 proyectos a la final europea y ojalá luego a la final global.\n\n¿Cuándo es?\nJueves 1 Febrero 2024\n17:00 – 20:00\n\n¿Dónde es?\nGraduate School Camilo José Cela University\nC. de Almagro\, 5\, Chamberí\, 28010 Madrid\nSala S-1\nhttps://maps.app.goo.gl/35VcBVoGGdrhkrjD9\n\nRegístrate aquí para asistir al evento
URL:https://eomadrid.org/event/semifinal-gsea/
LOCATION:Universidad Camilo José Cela\, Calle de Almagro\, 5\, Chamberí\, Madrid\, Madrid\, 28010
CATEGORIES:EVENTOS SOCIALES
ATTACH;FMTTYPE=image/jpeg:https://eomadrid.org/wp-content/uploads/2024/01/GSEA-Madrid-2024.jpg
END:VEVENT
BEGIN:VEVENT
DTSTART;TZID=Europe/Madrid:20240213T193000
DTEND;TZID=Europe/Madrid:20240213T223000
DTSTAMP:20260424T221528
CREATED:20240201T172857Z
LAST-MODIFIED:20240207T104252Z
UID:4306-1707852600-1707863400@eomadrid.org
SUMMARY:HAPPY HOUR
DESCRIPTION:EO Madrid forma parte de la organización de #emprendedores con más miembros alrededor del mundo. Te invitamos a conocernos en un espacio abierto de networking: el Happy Hour del Emprendimiento. \nEl evento está abierto a emprendedores y startups\, aceleradoras\, business angels e inversores; servicios de coworking\, gestorías\, notarías\, instituciones\, organizaciones y prensa. \nEl objetivo del Happy Hour del emprendimiento es conformar un espacio distendido en el que los diferentes perfiles puedan formar redes y beneficiarse los unos de los otros. \nEl evento es únicamente por invitación. Solo se admite una persona por empresa/institución. \nCualquier duda o inconveniente contacta con eohappyhour@eomadrid.org \n¡No te lo pierdas! Próximamente recibirás la convocatoria por e-mail.
URL:https://eomadrid.org/event/happy-hour-14/
LOCATION:The Social Hub\, Cuesta de San Vicente\, 28\, Madrid\, Madrid\, 28008\, España
CATEGORIES:EVENTOS SOCIALES
ATTACH;FMTTYPE=image/jpeg:https://eomadrid.org/wp-content/uploads/2024/02/Febrero-2024.jpg
END:VEVENT
BEGIN:VEVENT
DTSTART;TZID=Europe/Madrid:20240214T160000
DTEND;TZID=Europe/Madrid:20240214T200000
DTSTAMP:20260424T221528
CREATED:20240207T105108Z
LAST-MODIFIED:20240207T105108Z
UID:4338-1707926400-1707940800@eomadrid.org
SUMMARY:FORO 9
DESCRIPTION:
URL:https://eomadrid.org/event/foro-9-7/
CATEGORIES:Foro 9
END:VEVENT
BEGIN:VEVENT
DTSTART;TZID=Europe/Madrid:20240215T160000
DTEND;TZID=Europe/Madrid:20240215T200000
DTSTAMP:20260424T221528
CREATED:20231115T140148Z
LAST-MODIFIED:20231115T140148Z
UID:4081-1708012800-1708027200@eomadrid.org
SUMMARY:FORO 3
DESCRIPTION:
URL:https://eomadrid.org/event/foro-3-15/
CATEGORIES:Foro 3
END:VEVENT
BEGIN:VEVENT
DTSTART;TZID=Europe/Madrid:20240219T093000
DTEND;TZID=Europe/Madrid:20240219T173000
DTSTAMP:20260424T221528
CREATED:20240206T185355Z
LAST-MODIFIED:20240206T185856Z
UID:4334-1708335000-1708363800@eomadrid.org
SUMMARY:FORUM TRAINING
DESCRIPTION:
URL:https://eomadrid.org/event/forum-training/
LOCATION:UTÓPICUS Francisco Silvela 42\, Francisco Silvela\, 42\, Madrid\, Madrid\, 28020\, España
CATEGORIES:FOROS
END:VEVENT
BEGIN:VEVENT
DTSTART;TZID=Europe/Madrid:20240219T160000
DTEND;TZID=Europe/Madrid:20240219T200000
DTSTAMP:20260424T221528
CREATED:20231106T092305Z
LAST-MODIFIED:20240205T181125Z
UID:4063-1708358400-1708372800@eomadrid.org
SUMMARY:FORO 6
DESCRIPTION:Tendrá lugar en las oficinas VAS
URL:https://eomadrid.org/event/foro-6-10/
CATEGORIES:Foro 6
END:VEVENT
BEGIN:VEVENT
DTSTART;TZID=Europe/Madrid:20240220T160000
DTEND;TZID=Europe/Madrid:20240220T200000
DTSTAMP:20260424T221528
CREATED:20240209T075553Z
LAST-MODIFIED:20240209T075553Z
UID:4433-1708444800-1708459200@eomadrid.org
SUMMARY:FORO 4
DESCRIPTION:
URL:https://eomadrid.org/event/foro-4-10/
LOCATION:GSG Serrano\, C/ Serrano\, 110\, Madrid\, Madrid\, 28006\, España
CATEGORIES:Foro 4
END:VEVENT
BEGIN:VEVENT
DTSTART;VALUE=DATE:20240221
DTEND;VALUE=DATE:20240225
DTSTAMP:20260424T221528
CREATED:20230717T123849Z
LAST-MODIFIED:20230803T171657Z
UID:3712-1708473600-1708819199@eomadrid.org
SUMMARY:PRESIDENTS MEETING
DESCRIPTION:
URL:https://eomadrid.org/event/presidents-meeting/
CATEGORIES:BOARD
ATTACH;FMTTYPE=image/png:https://eomadrid.org/wp-content/uploads/2023/07/Presidents-meeting-image-Oman.png
END:VEVENT
BEGIN:VEVENT
DTSTART;TZID=Europe/Madrid:20240221T160000
DTEND;TZID=Europe/Madrid:20240221T200000
DTSTAMP:20260424T221528
CREATED:20240103T125551Z
LAST-MODIFIED:20240104T082008Z
UID:4186-1708531200-1708545600@eomadrid.org
SUMMARY:FORO 2
DESCRIPTION:
URL:https://eomadrid.org/event/foro-3-18/
LOCATION:GSG Serrano\, C/ Serrano\, 110\, Madrid\, Madrid\, 28006\, España
CATEGORIES:Foro 2
END:VEVENT
BEGIN:VEVENT
DTSTART;TZID=Europe/Madrid:20240222T101500
DTEND;TZID=Europe/Madrid:20240222T141500
DTSTAMP:20260424T221528
CREATED:20231027T110443Z
LAST-MODIFIED:20231202T142334Z
UID:4043-1708596900-1708611300@eomadrid.org
SUMMARY:FORO 7
DESCRIPTION:
URL:https://eomadrid.org/event/foro-7-14/
CATEGORIES:Foro 7
ORGANIZER;CN="M%C3%B3nica Vicente":MAILTO:info@hoynohaycole.com
END:VEVENT
BEGIN:VEVENT
DTSTART;TZID=Europe/Madrid:20240222T180000
DTEND;TZID=Europe/Madrid:20240222T200000
DTSTAMP:20260424T221528
CREATED:20240124T180744Z
LAST-MODIFIED:20240219T100735Z
UID:4257-1708624800-1708632000@eomadrid.org
SUMMARY:LEARNING: DECIDIR EN UN CONTEXTO DE ALTA INCERTIDUMBRE
DESCRIPTION:En contextos “normales” las empresas enfrentan ciertos niveles de incertidumbre y la abordan de diversas maneras: algunos negándola\, otros con proyecciones con “demasiada” precisión y algunos con métodos que permiten entender los principales escenarios que vislumbran. \nSin embargo\, en épocas como la actual\, con niveles de incertidumbre crecientes y con la necesidad de tomar más y mejores decisiones\, debemos pensar otra forma de abordar la gestión de la incertidumbre si queremos ser exitosos. En este encuentro conversaremos sobre cómo decidir mejor en un mundo de cada vez menos certezas. \n  \nEn la duración del seminario\, los participantes tendrán un espacio para reflexionar sobre cómo deciden hoy en día\, y encontrar herramientas para poder mejorar la forma de pensar la incertidumbre en contextos de cambio. Esperamos trabajar en modo taller participativo donde los participantes puedan aplicar las ideas sobre casos reales compartiendo conocimiento entre miembros. \n  \nErnesto es especialista en toma de decisiones en empresas. Es socio fundador de Tandem\, consultora especializada en Decision management desde la que colabora con empresas como Coca Cola\, BBVA\, Pemex o Pfizer. También es profesor invitado en diversas universidades en México y Argentina en temáticas de toma de decisiones y co-autor\, de “La Decisión – Su teoría y práctica” y de “Teoría de la Decisión”. \n  \nPosteriormente habrá una sesión de networking donde seguir conversando sobre toma de decisiones. \nLink de registro: https://bit.ly/489COFO \n¡Únete a esta emocionante charla sobre cómo mejorar la manera en que tomamos decisiones!
URL:https://eomadrid.org/event/learning-decidir-en-un-contexto-de-alta-incertidumbre/
LOCATION:Universidad Camilo José Cela\, Calle de Almagro\, 5\, Chamberí\, Madrid\, Madrid\, 28010
CATEGORIES:LEARNING
ATTACH;FMTTYPE=image/jpeg:https://eomadrid.org/wp-content/uploads/2024/01/Learning-Ernesto-Weissmann-Febrero-22-1.jpg
END:VEVENT
BEGIN:VEVENT
DTSTART;TZID=Europe/Madrid:20240227T170000
DTEND;TZID=Europe/Madrid:20240227T200000
DTSTAMP:20260424T221528
CREATED:20230717T114253Z
LAST-MODIFIED:20240202T164615Z
UID:3683-1709053200-1709064000@eomadrid.org
SUMMARY:BOARD AMPLIADO
DESCRIPTION:
URL:https://eomadrid.org/event/board-reducido-4/
LOCATION:GSG Serrano\, C/ Serrano\, 110\, Madrid\, Madrid\, 28006\, España
CATEGORIES:BOARD
END:VEVENT
BEGIN:VEVENT
DTSTART;TZID=Europe/Madrid:20240304T170000
DTEND;TZID=Europe/Madrid:20240304T180000
DTSTAMP:20260424T221528
CREATED:20240205T180927Z
LAST-MODIFIED:20240213T140710Z
UID:4316-1709571600-1709575200@eomadrid.org
SUMMARY:FORO 6 LECTURA
DESCRIPTION:En remoto
URL:https://eomadrid.org/event/foro-6-lectura-2/
CATEGORIES:Foro 6
END:VEVENT
BEGIN:VEVENT
DTSTART;VALUE=DATE:20240306
DTEND;VALUE=DATE:20240309
DTSTAMP:20260424T221528
CREATED:20230803T172401Z
LAST-MODIFIED:20230803T172401Z
UID:3799-1709683200-1709942399@eomadrid.org
SUMMARY:MODERATORS SUMMIT (Atenas\, Grecia)
DESCRIPTION:
URL:https://eomadrid.org/event/moderators-summit-atenas-grecia/
CATEGORIES:MODERADORES
END:VEVENT
BEGIN:VEVENT
DTSTART;TZID=Europe/Madrid:20240313T193000
DTEND;TZID=Europe/Madrid:20240313T220000
DTSTAMP:20260424T221528
CREATED:20240202T162857Z
LAST-MODIFIED:20240308T142736Z
UID:4313-1710358200-1710367200@eomadrid.org
SUMMARY:HAPPY HOUR
DESCRIPTION:
URL:https://eomadrid.org/event/happy-hour-15/
LOCATION:Aticco\, Calle de María de Molina\, 39\, 4ª planta\, Chamartín\,\, Madrid\, Madrid\, 28006
CATEGORIES:EVENTOS SOCIALES
ATTACH;FMTTYPE=image/jpeg:https://eomadrid.org/wp-content/uploads/2024/02/MARZO-2024.jpg
END:VEVENT
BEGIN:VEVENT
DTSTART;TZID=Europe/Madrid:20240314T160000
DTEND;TZID=Europe/Madrid:20240314T200000
DTSTAMP:20260424T221528
CREATED:20240305T173806Z
LAST-MODIFIED:20240305T173806Z
UID:4508-1710432000-1710446400@eomadrid.org
SUMMARY:FORO 9
DESCRIPTION:Oficinas de Mariano López
URL:https://eomadrid.org/event/foro-9-8/
CATEGORIES:Foro 9
END:VEVENT
BEGIN:VEVENT
DTSTART;TZID=Europe/Madrid:20240318T160000
DTEND;TZID=Europe/Madrid:20240318T200000
DTSTAMP:20260424T221528
CREATED:20240205T181224Z
LAST-MODIFIED:20240205T181224Z
UID:4319-1710777600-1710792000@eomadrid.org
SUMMARY:FORO 6
DESCRIPTION:Tendrá lugar en casa de Sascha Badelt
URL:https://eomadrid.org/event/foro-6-9/
CATEGORIES:Foro 6
END:VEVENT
END:VCALENDAR