BEGIN:VCALENDAR
VERSION:2.0
PRODID:-//EO MADRID - ECPv6.15.12.2//NONSGML v1.0//EN
CALSCALE:GREGORIAN
METHOD:PUBLISH
X-ORIGINAL-URL:https://eomadrid.org
X-WR-CALDESC:Eventos para EO MADRID
REFRESH-INTERVAL;VALUE=DURATION:PT1H
X-Robots-Tag:noindex
X-PUBLISHED-TTL:PT1H
BEGIN:VTIMEZONE
TZID:Europe/Madrid
BEGIN:DAYLIGHT
TZOFFSETFROM:+0100
TZOFFSETTO:+0200
TZNAME:CEST
DTSTART:20230326T010000
END:DAYLIGHT
BEGIN:STANDARD
TZOFFSETFROM:+0200
TZOFFSETTO:+0100
TZNAME:CET
DTSTART:20231029T010000
END:STANDARD
BEGIN:DAYLIGHT
TZOFFSETFROM:+0100
TZOFFSETTO:+0200
TZNAME:CEST
DTSTART:20240331T010000
END:DAYLIGHT
BEGIN:STANDARD
TZOFFSETFROM:+0200
TZOFFSETTO:+0100
TZNAME:CET
DTSTART:20241027T010000
END:STANDARD
BEGIN:DAYLIGHT
TZOFFSETFROM:+0100
TZOFFSETTO:+0200
TZNAME:CEST
DTSTART:20250330T010000
END:DAYLIGHT
BEGIN:STANDARD
TZOFFSETFROM:+0200
TZOFFSETTO:+0100
TZNAME:CET
DTSTART:20251026T010000
END:STANDARD
BEGIN:DAYLIGHT
TZOFFSETFROM:+0100
TZOFFSETTO:+0200
TZNAME:CEST
DTSTART:20260329T010000
END:DAYLIGHT
BEGIN:STANDARD
TZOFFSETFROM:+0200
TZOFFSETTO:+0100
TZNAME:CET
DTSTART:20261025T010000
END:STANDARD
BEGIN:DAYLIGHT
TZOFFSETFROM:+0100
TZOFFSETTO:+0200
TZNAME:CEST
DTSTART:20270328T010000
END:DAYLIGHT
BEGIN:STANDARD
TZOFFSETFROM:+0200
TZOFFSETTO:+0100
TZNAME:CET
DTSTART:20271031T010000
END:STANDARD
END:VTIMEZONE
BEGIN:VEVENT
DTSTART;TZID=Europe/Madrid:20260312T193000
DTEND;TZID=Europe/Madrid:20260312T223000
DTSTAMP:20260420T122029
CREATED:20251023T151902Z
LAST-MODIFIED:20251023T151902Z
UID:5893-1773343800-1773354600@eomadrid.org
SUMMARY:Happy Hour 59
DESCRIPTION:
URL:https://eomadrid.org/event/happy-hour-59/
CATEGORIES:EVENTOS SOCIALES
END:VEVENT
BEGIN:VEVENT
DTSTART;TZID=Europe/Madrid:20260210T193000
DTEND;TZID=Europe/Madrid:20260210T223000
DTSTAMP:20260420T122029
CREATED:20251023T151646Z
LAST-MODIFIED:20251023T151646Z
UID:5891-1770751800-1770762600@eomadrid.org
SUMMARY:Happy Hour 58
DESCRIPTION:
URL:https://eomadrid.org/event/happy-hour-58/
CATEGORIES:EVENTOS SOCIALES
END:VEVENT
BEGIN:VEVENT
DTSTART;TZID=Europe/Madrid:20260113T193000
DTEND;TZID=Europe/Madrid:20260113T223000
DTSTAMP:20260420T122029
CREATED:20251023T151553Z
LAST-MODIFIED:20251023T151553Z
UID:5889-1768332600-1768343400@eomadrid.org
SUMMARY:Happy Hour 57
DESCRIPTION:
URL:https://eomadrid.org/event/happy-hour-57/
CATEGORIES:EVENTOS SOCIALES
END:VEVENT
BEGIN:VEVENT
DTSTART;TZID=Europe/Madrid:20251119T193000
DTEND;TZID=Europe/Madrid:20251119T223000
DTSTAMP:20260420T122029
CREATED:20251023T151316Z
LAST-MODIFIED:20251023T151316Z
UID:5887-1763580600-1763591400@eomadrid.org
SUMMARY:Happy Hour 56
DESCRIPTION:
URL:https://eomadrid.org/event/happy-hour-56/
CATEGORIES:EVENTOS SOCIALES
END:VEVENT
BEGIN:VEVENT
DTSTART;TZID=Europe/Madrid:20250708T193000
DTEND;TZID=Europe/Madrid:20250708T223000
DTSTAMP:20260420T122029
CREATED:20241216T183841Z
LAST-MODIFIED:20241216T183841Z
UID:5339-1752003000-1752013800@eomadrid.org
SUMMARY:HAPPY HOUR 53
DESCRIPTION:
URL:https://eomadrid.org/event/happy-hour-53/
CATEGORIES:EVENTOS SOCIALES
END:VEVENT
BEGIN:VEVENT
DTSTART;TZID=Europe/Madrid:20250611T190000
DTEND;TZID=Europe/Madrid:20250611T223000
DTSTAMP:20260420T122029
CREATED:20241216T183453Z
LAST-MODIFIED:20250604T153130Z
UID:5336-1749668400-1749681000@eomadrid.org
SUMMARY:HAPPY HOUR 52
DESCRIPTION:
URL:https://eomadrid.org/event/happy-hour-52/
LOCATION:International Lab\, C. de Bailén\, 41\, Centro\, Madrid\, Madrid\, 28005\, Spain
CATEGORIES:EVENTOS SOCIALES
END:VEVENT
BEGIN:VEVENT
DTSTART;TZID=Europe/Madrid:20250513T193000
DTEND;TZID=Europe/Madrid:20250513T223000
DTSTAMP:20260420T122029
CREATED:20241216T180430Z
LAST-MODIFIED:20241216T180430Z
UID:5334-1747164600-1747175400@eomadrid.org
SUMMARY:HAPPY HOUR 51
DESCRIPTION:
URL:https://eomadrid.org/event/happy-hour-51/
CATEGORIES:EVENTOS SOCIALES
END:VEVENT
BEGIN:VEVENT
DTSTART;TZID=Europe/Madrid:20250408T193000
DTEND;TZID=Europe/Madrid:20250408T223000
DTSTAMP:20260420T122029
CREATED:20241213T174418Z
LAST-MODIFIED:20250131T105956Z
UID:5180-1744140600-1744151400@eomadrid.org
SUMMARY:HAPPY HOUR 50
DESCRIPTION:
URL:https://eomadrid.org/event/happy-hour-50/
CATEGORIES:EVENTOS SOCIALES
END:VEVENT
BEGIN:VEVENT
DTSTART;TZID=Europe/Madrid:20250318T193000
DTEND;TZID=Europe/Madrid:20250318T223000
DTSTAMP:20260420T122029
CREATED:20241213T174304Z
LAST-MODIFIED:20241213T174304Z
UID:5178-1742326200-1742337000@eomadrid.org
SUMMARY:HAPPY HOUR 49
DESCRIPTION:
URL:https://eomadrid.org/event/happy-hour-49/
CATEGORIES:EVENTOS SOCIALES
END:VEVENT
BEGIN:VEVENT
DTSTART;TZID=Europe/Madrid:20250212T193000
DTEND;TZID=Europe/Madrid:20250212T223000
DTSTAMP:20260420T122029
CREATED:20241213T174047Z
LAST-MODIFIED:20241213T174047Z
UID:5176-1739388600-1739399400@eomadrid.org
SUMMARY:HAPPY HOUR 48
DESCRIPTION:
URL:https://eomadrid.org/event/happy-hour-48/
CATEGORIES:EVENTOS SOCIALES
END:VEVENT
BEGIN:VEVENT
DTSTART;TZID=Europe/Madrid:20250114T193000
DTEND;TZID=Europe/Madrid:20250114T223000
DTSTAMP:20260420T122029
CREATED:20241212T183543Z
LAST-MODIFIED:20241212T183938Z
UID:5172-1736883000-1736893800@eomadrid.org
SUMMARY:HAPPY HOUR 47
DESCRIPTION:
URL:https://eomadrid.org/event/happy-hour-47/
CATEGORIES:EVENTOS SOCIALES
END:VEVENT
BEGIN:VEVENT
DTSTART;TZID=Europe/Madrid:20241211T190000
DTEND;TZID=Europe/Madrid:20241211T220000
DTSTAMP:20260420T122029
CREATED:20240801T082457Z
LAST-MODIFIED:20240801T082457Z
UID:4726-1733943600-1733954400@eomadrid.org
SUMMARY:Cena de Navidad
DESCRIPTION:
URL:https://eomadrid.org/event/cena-de-navidad-3/
CATEGORIES:EVENTOS SOCIALES
END:VEVENT
BEGIN:VEVENT
DTSTART;TZID=Europe/Madrid:20241113T190000
DTEND;TZID=Europe/Madrid:20241113T220000
DTSTAMP:20260420T122029
CREATED:20240801T082259Z
LAST-MODIFIED:20240801T082259Z
UID:4724-1731524400-1731535200@eomadrid.org
SUMMARY:HAPPY HOUR
DESCRIPTION:
URL:https://eomadrid.org/event/happy-hour-22/
CATEGORIES:EVENTOS SOCIALES
END:VEVENT
BEGIN:VEVENT
DTSTART;TZID=Europe/Madrid:20241021T190000
DTEND;TZID=Europe/Madrid:20241021T220000
DTSTAMP:20260420T122029
CREATED:20240801T082131Z
LAST-MODIFIED:20240801T082131Z
UID:4722-1729537200-1729548000@eomadrid.org
SUMMARY:HAPPY HOUR
DESCRIPTION:
URL:https://eomadrid.org/event/happy-hour-21/
CATEGORIES:EVENTOS SOCIALES
END:VEVENT
BEGIN:VEVENT
DTSTART;TZID=Europe/Madrid:20241010T183000
DTEND;TZID=Europe/Madrid:20241010T213000
DTSTAMP:20260420T122029
CREATED:20240808T121445Z
LAST-MODIFIED:20240808T121513Z
UID:4730-1728585000-1728595800@eomadrid.org
SUMMARY:LEARNING EMILIO DURÓ
DESCRIPTION:
URL:https://eomadrid.org/event/learning-emilio-duro/
CATEGORIES:LEARNING
END:VEVENT
BEGIN:VEVENT
DTSTART;TZID=Europe/Madrid:20240926T101500
DTEND;TZID=Europe/Madrid:20240926T141500
DTSTAMP:20260420T122029
CREATED:20240719T110704Z
LAST-MODIFIED:20240719T110704Z
UID:4714-1727345700-1727360100@eomadrid.org
SUMMARY:FORO 7
DESCRIPTION:
URL:https://eomadrid.org/event/foro-7-20/
CATEGORIES:Foro 7
END:VEVENT
BEGIN:VEVENT
DTSTART;TZID=Europe/Madrid:20240918T190000
DTEND;TZID=Europe/Madrid:20240918T200000
DTSTAMP:20260420T122029
CREATED:20240808T121253Z
LAST-MODIFIED:20240808T121627Z
UID:4728-1726686000-1726689600@eomadrid.org
SUMMARY:LEARNING MECIDES
DESCRIPTION:
URL:https://eomadrid.org/event/learning-mecides/
CATEGORIES:LEARNING
END:VEVENT
BEGIN:VEVENT
DTSTART;TZID=Europe/Madrid:20240917T190000
DTEND;TZID=Europe/Madrid:20240917T220000
DTSTAMP:20260420T122029
CREATED:20240801T081918Z
LAST-MODIFIED:20240801T081918Z
UID:4720-1726599600-1726610400@eomadrid.org
SUMMARY:HAPPY HOUR
DESCRIPTION:
URL:https://eomadrid.org/event/happy-hour-20/
CATEGORIES:EVENTOS SOCIALES
END:VEVENT
BEGIN:VEVENT
DTSTART;TZID=Europe/Madrid:20240917T170000
DTEND;TZID=Europe/Madrid:20240917T210000
DTSTAMP:20260420T122029
CREATED:20240301T115442Z
LAST-MODIFIED:20240910T090256Z
UID:4501-1726592400-1726606800@eomadrid.org
SUMMARY:TEST DRIVE
DESCRIPTION:
URL:https://eomadrid.org/event/test-drive/
LOCATION:UTÓPICUS Francisco Silvela 42\, Francisco Silvela\, 42\, Madrid\, Madrid\, 28020\, España
CATEGORIES:MEMBERSHIP
END:VEVENT
BEGIN:VEVENT
DTSTART;TZID=Europe/Madrid:20240717T101500
DTEND;TZID=Europe/Madrid:20240717T141500
DTSTAMP:20260420T122029
CREATED:20231027T110652Z
LAST-MODIFIED:20240719T110014Z
UID:4053-1721211300-1721225700@eomadrid.org
SUMMARY:FORO 7
DESCRIPTION:
URL:https://eomadrid.org/event/foro-7-19/
CATEGORIES:Foro 7
ORGANIZER;CN="M%C3%B3nica Vicente":MAILTO:info@hoynohaycole.com
END:VEVENT
BEGIN:VEVENT
DTSTART;TZID=Europe/Madrid:20240710T193000
DTEND;TZID=Europe/Madrid:20240710T223000
DTSTAMP:20260420T122029
CREATED:20240205T184421Z
LAST-MODIFIED:20240529T181452Z
UID:4330-1720639800-1720650600@eomadrid.org
SUMMARY:HAPPY HOUR
DESCRIPTION:EO Madrid forma parte de la organización de #emprendedores con más miembros alrededor del mundo. Te invitamos a conocernos en un espacio abierto de networking: el Happy Hour del Emprendimiento. \nEl evento está abierto a emprendedores y startups\, aceleradoras\, business angels e inversores; servicios de coworking\, gestorías\, notarías\, instituciones\, organizaciones y prensa. \nEl objetivo del Happy Hour del emprendimiento es conformar un espacio distendido en el que los diferentes perfiles puedan formar redes y beneficiarse los unos de los otros. \nEl evento es únicamente por invitación. Solo se admite una persona por empresa/institución. \nCualquier duda o inconveniente contacta con eohappyhour@eomadrid.org \n¡No te lo pierdas! Próximamente recibirás la convocatoria por e-mail.
URL:https://eomadrid.org/event/happy-hour-18/
LOCATION:Autocines Madrid\, C. de la Isla de Java\, 2\, Fuencarral-El Pardo\, 28034
CATEGORIES:EVENTOS SOCIALES
END:VEVENT
BEGIN:VEVENT
DTSTART;TZID=Europe/Madrid:20240701T163000
DTEND;TZID=Europe/Madrid:20240701T183000
DTSTAMP:20260420T122029
CREATED:20240513T101712Z
LAST-MODIFIED:20240513T101712Z
UID:4646-1719851400-1719858600@eomadrid.org
SUMMARY:REUNIÓN DE MODERADORES
DESCRIPTION:
URL:https://eomadrid.org/event/reunion-de-moderadores-6/
LOCATION:UTÓPICUS Francisco Silvela 42\, Francisco Silvela\, 42\, Madrid\, Madrid\, 28020\, España
CATEGORIES:MODERADORES
END:VEVENT
BEGIN:VEVENT
DTSTART;TZID=Europe/Madrid:20240701T090000
DTEND;TZID=Europe/Madrid:20240701T170000
DTSTAMP:20260420T122029
CREATED:20240603T144050Z
LAST-MODIFIED:20240603T144050Z
UID:4701-1719824400-1719853200@eomadrid.org
SUMMARY:FORUM TRAINING PROGRAMME
DESCRIPTION:
URL:https://eomadrid.org/event/forum-training-programme-2/
LOCATION:UTÓPICUS Francisco Silvela 42\, Francisco Silvela\, 42\, Madrid\, Madrid\, 28020\, España
CATEGORIES:FOROS,LEARNING
END:VEVENT
BEGIN:VEVENT
DTSTART;TZID=Europe/Madrid:20240625T101500
DTEND;TZID=Europe/Madrid:20240625T141500
DTSTAMP:20260420T122029
CREATED:20231027T110638Z
LAST-MODIFIED:20231202T142554Z
UID:4051-1719310500-1719324900@eomadrid.org
SUMMARY:FORO 7
DESCRIPTION:
URL:https://eomadrid.org/event/foro-7-18/
CATEGORIES:Foro 7
ORGANIZER;CN="M%C3%B3nica Vicente":MAILTO:info@hoynohaycole.com
END:VEVENT
BEGIN:VEVENT
DTSTART;TZID=Europe/Madrid:20240624T160000
DTEND;TZID=Europe/Madrid:20240624T200000
DTSTAMP:20260420T122029
CREATED:20240521T143408Z
LAST-MODIFIED:20240521T143635Z
UID:4654-1719244800-1719259200@eomadrid.org
SUMMARY:FORO 6
DESCRIPTION:
URL:https://eomadrid.org/event/foro-6-13/
LOCATION:UTÓPICUS Francisco Silvela 42\, Francisco Silvela\, 42\, Madrid\, Madrid\, 28020\, España
CATEGORIES:Foro 6
END:VEVENT
BEGIN:VEVENT
DTSTART;TZID=Europe/Madrid:20240620T170000
DTEND;TZID=Europe/Madrid:20240620T200000
DTSTAMP:20260420T122029
CREATED:20230717T114700Z
LAST-MODIFIED:20230717T114700Z
UID:3693-1718902800-1718913600@eomadrid.org
SUMMARY:BOARD AMPLIADO
DESCRIPTION:
URL:https://eomadrid.org/event/board-ampliado-8/
CATEGORIES:BOARD
END:VEVENT
BEGIN:VEVENT
DTSTART;TZID=Europe/Madrid:20240618T193000
DTEND;TZID=Europe/Madrid:20240618T223000
DTSTAMP:20260420T122029
CREATED:20240205T182551Z
LAST-MODIFIED:20240205T184246Z
UID:4328-1718739000-1718749800@eomadrid.org
SUMMARY:HAPPY HOUR
DESCRIPTION:EO Madrid forma parte de la organización de #emprendedores con más miembros alrededor del mundo. Te invitamos a conocernos en un espacio abierto de networking: el Happy Hour del Emprendimiento. \nEl evento está abierto a emprendedores y startups\, aceleradoras\, business angels e inversores; servicios de coworking\, gestorías\, notarías\, instituciones\, organizaciones y prensa. \nEl objetivo del Happy Hour del emprendimiento es conformar un espacio distendido en el que los diferentes perfiles puedan formar redes y beneficiarse los unos de los otros. \nEl evento es únicamente por invitación. Solo se admite una persona por empresa/institución. \nCualquier duda o inconveniente contacta con eohappyhour@eomadrid.org \n¡No te lo pierdas! Próximamente recibirás la convocatoria por e-mail.
URL:https://eomadrid.org/event/happy-hour-17/
LOCATION:IE Tower\, Paseo de la Castellama\, 259 - planta 24\, Madrid\, Madrid\, 28046\, España
CATEGORIES:EVENTOS SOCIALES
END:VEVENT
BEGIN:VEVENT
DTSTART;TZID=Europe/Madrid:20240613T210000
DTEND;TZID=Europe/Madrid:20240613T233000
DTSTAMP:20260420T122029
CREATED:20230717T112940Z
LAST-MODIFIED:20240227T184517Z
UID:3669-1718312400-1718321400@eomadrid.org
SUMMARY:CENA DE VERANO
DESCRIPTION:
URL:https://eomadrid.org/event/cena-de-verano/
CATEGORIES:EVENTOS SOCIALES
END:VEVENT
BEGIN:VEVENT
DTSTART;TZID=Europe/Madrid:20240606T183000
DTEND;TZID=Europe/Madrid:20240606T203000
DTSTAMP:20260420T122029
CREATED:20240510T150733Z
LAST-MODIFIED:20240510T150819Z
UID:4643-1717698600-1717705800@eomadrid.org
SUMMARY:LEARNING SESIÓN TEST DE CONFIANZA PRESENCIAL
DESCRIPTION:
URL:https://eomadrid.org/event/learning-sesion-test-de-confianza-presencial/
CATEGORIES:LEARNING
END:VEVENT
BEGIN:VEVENT
DTSTART;TZID=Europe/Madrid:20240529T203000
DTEND;TZID=Europe/Madrid:20240529T223000
DTSTAMP:20260420T122029
CREATED:20230717T114624Z
LAST-MODIFIED:20240416T121925Z
UID:3691-1717014600-1717021800@eomadrid.org
SUMMARY:CENA DEL BOARD
DESCRIPTION:
URL:https://eomadrid.org/event/cena-del-board/
CATEGORIES:BOARD
END:VEVENT
END:VCALENDAR