BEGIN:VCALENDAR
VERSION:2.0
PRODID:-//EO MADRID - ECPv6.15.12.2//NONSGML v1.0//EN
CALSCALE:GREGORIAN
METHOD:PUBLISH
X-WR-CALNAME:EO MADRID
X-ORIGINAL-URL:https://eomadrid.org
X-WR-CALDESC:Eventos para EO MADRID
REFRESH-INTERVAL;VALUE=DURATION:PT1H
X-Robots-Tag:noindex
X-PUBLISHED-TTL:PT1H
BEGIN:VTIMEZONE
TZID:Europe/Madrid
BEGIN:DAYLIGHT
TZOFFSETFROM:+0100
TZOFFSETTO:+0200
TZNAME:CEST
DTSTART:20220327T010000
END:DAYLIGHT
BEGIN:STANDARD
TZOFFSETFROM:+0200
TZOFFSETTO:+0100
TZNAME:CET
DTSTART:20221030T010000
END:STANDARD
BEGIN:DAYLIGHT
TZOFFSETFROM:+0100
TZOFFSETTO:+0200
TZNAME:CEST
DTSTART:20230326T010000
END:DAYLIGHT
BEGIN:STANDARD
TZOFFSETFROM:+0200
TZOFFSETTO:+0100
TZNAME:CET
DTSTART:20231029T010000
END:STANDARD
BEGIN:DAYLIGHT
TZOFFSETFROM:+0100
TZOFFSETTO:+0200
TZNAME:CEST
DTSTART:20240331T010000
END:DAYLIGHT
BEGIN:STANDARD
TZOFFSETFROM:+0200
TZOFFSETTO:+0100
TZNAME:CET
DTSTART:20241027T010000
END:STANDARD
END:VTIMEZONE
BEGIN:VEVENT
DTSTART;TZID=Europe/Madrid:20230602T093000
DTEND;TZID=Europe/Madrid:20230602T113000
DTSTAMP:20260423T161627
CREATED:20221128T161943Z
LAST-MODIFIED:20221128T161943Z
UID:2371-1685698200-1685705400@eomadrid.org
SUMMARY:ONBOARDING online
DESCRIPTION:Si eres un nuevo miembro de EO Madrid y necesitas una primera guía para conocer todos los contenidos a los que puedes tener acceso\, conocer las plataformas web\, los calendarios de actividades\, no dudes en comentarlo con Cristina de Santisteban. \nEl primer Viernes de cada mes (si no es festivo) a las 9:30h tendremos una sesión de Onboarding online en la que Cristina te mostrará todo lo que puedes conseguir en EO.
URL:https://eomadrid.org/event/onboarding-online-7/
LOCATION:Madrid
CATEGORIES:MEMBERSHIP
END:VEVENT
END:VCALENDAR