BEGIN:VCALENDAR
VERSION:2.0
PRODID:-//EO MADRID - ECPv6.15.12.2//NONSGML v1.0//EN
CALSCALE:GREGORIAN
METHOD:PUBLISH
X-ORIGINAL-URL:https://eomadrid.org
X-WR-CALDESC:Eventos para EO MADRID
REFRESH-INTERVAL;VALUE=DURATION:PT1H
X-Robots-Tag:noindex
X-PUBLISHED-TTL:PT1H
BEGIN:VTIMEZONE
TZID:Europe/Madrid
BEGIN:DAYLIGHT
TZOFFSETFROM:+0100
TZOFFSETTO:+0200
TZNAME:CEST
DTSTART:20220327T010000
END:DAYLIGHT
BEGIN:STANDARD
TZOFFSETFROM:+0200
TZOFFSETTO:+0100
TZNAME:CET
DTSTART:20221030T010000
END:STANDARD
BEGIN:DAYLIGHT
TZOFFSETFROM:+0100
TZOFFSETTO:+0200
TZNAME:CEST
DTSTART:20230326T010000
END:DAYLIGHT
BEGIN:STANDARD
TZOFFSETFROM:+0200
TZOFFSETTO:+0100
TZNAME:CET
DTSTART:20231029T010000
END:STANDARD
BEGIN:DAYLIGHT
TZOFFSETFROM:+0100
TZOFFSETTO:+0200
TZNAME:CEST
DTSTART:20240331T010000
END:DAYLIGHT
BEGIN:STANDARD
TZOFFSETFROM:+0200
TZOFFSETTO:+0100
TZNAME:CET
DTSTART:20241027T010000
END:STANDARD
END:VTIMEZONE
BEGIN:VEVENT
DTSTART;TZID=Europe/Madrid:20230113T093000
DTEND;TZID=Europe/Madrid:20230113T113000
DTSTAMP:20260424T013454
CREATED:20221128T154040Z
LAST-MODIFIED:20230110T091601Z
UID:2359-1673602200-1673609400@eomadrid.org
SUMMARY:ONBOARDING online
DESCRIPTION:Si eres un nuevo miembro de EO Madrid y necesitas una primera guía para conocer todos los contenidos a los que puedes tener acceso\, conocer las plataformas web\, los calendarios de actividades\, no dudes en comentarlo con Cristina de Santisteban. \nEl primer Viernes de cada mes a las 9:30h tendremos una sesión de Onboarding online en la que Cristina te mostrará todo lo que puedes conseguir en EO. \nRegístrate en este Link y agéndate este evento en tu calendario de uso habitual.
URL:https://eomadrid.org/event/onboarding-online-2/
LOCATION:Madrid
CATEGORIES:MEMBERSHIP
END:VEVENT
END:VCALENDAR