BEGIN:VCALENDAR
VERSION:2.0
PRODID:-//EO MADRID - ECPv6.15.12.2//NONSGML v1.0//EN
CALSCALE:GREGORIAN
METHOD:PUBLISH
X-ORIGINAL-URL:https://eomadrid.org
X-WR-CALDESC:Eventos para EO MADRID
REFRESH-INTERVAL;VALUE=DURATION:PT1H
X-Robots-Tag:noindex
X-PUBLISHED-TTL:PT1H
BEGIN:VTIMEZONE
TZID:Europe/Madrid
BEGIN:DAYLIGHT
TZOFFSETFROM:+0100
TZOFFSETTO:+0200
TZNAME:CEST
DTSTART:20220327T010000
END:DAYLIGHT
BEGIN:STANDARD
TZOFFSETFROM:+0200
TZOFFSETTO:+0100
TZNAME:CET
DTSTART:20221030T010000
END:STANDARD
BEGIN:DAYLIGHT
TZOFFSETFROM:+0100
TZOFFSETTO:+0200
TZNAME:CEST
DTSTART:20230326T010000
END:DAYLIGHT
BEGIN:STANDARD
TZOFFSETFROM:+0200
TZOFFSETTO:+0100
TZNAME:CET
DTSTART:20231029T010000
END:STANDARD
BEGIN:DAYLIGHT
TZOFFSETFROM:+0100
TZOFFSETTO:+0200
TZNAME:CEST
DTSTART:20240331T010000
END:DAYLIGHT
BEGIN:STANDARD
TZOFFSETFROM:+0200
TZOFFSETTO:+0100
TZNAME:CET
DTSTART:20241027T010000
END:STANDARD
END:VTIMEZONE
BEGIN:VEVENT
DTSTART;TZID=Europe/Madrid:20231218T093000
DTEND;TZID=Europe/Madrid:20231218T173000
DTSTAMP:20260421T120521
CREATED:20231201T170635Z
LAST-MODIFIED:20231201T172229Z
UID:4154-1702891800-1702920600@eomadrid.org
SUMMARY:LEARNING: IA EN EL NEGOCIO DE HOY
DESCRIPTION:Os proponemos una sesión de una jornada con especialistas en esta materia. Un curso con una orientación práctica y preparado a medida para EO Madrid. \nTiene cuatro partes: \n\nQué es la Inteligencia Artificial. Algoritmos\, Machine Learning\, Deep Learning\, Reinforcement Learning\, Large Language Models\, etc. Una introducción a un nivel asequible para no técnicos. (Wólfram Rozas)\nFórmulas de implantación en los procesos de negocio. Categorización de los casos de uso. (Wólfram Rozas)\nCaso concreto de las IA Generativas. Modelos Fundacionales y Large Language Models. Algoritmos actuales. Casos de uso en empresas. (Anselmo Trillo)\nLa creación de proyectos basados en Inteligencia Artificial.Modalidades\, enfoques y primeros pasos. (Alberto Tornero)\n\nLos instructores son profesionales de esta industria\, al tiempo que ponentes en congresos y profesores en escuelas de negocio. \n  \nPara registrarse ponerse en contacto con Paula (+34 697 89 90 82)
URL:https://eomadrid.org/event/learning-ia-en-el-negocio-de-hoy/
LOCATION:Instituto de emprendimiento avanzado\, C. del Turia\, 7\,\, Madrid\, Madrid\, 28002\, España
CATEGORIES:LEARNING
ATTACH;FMTTYPE=image/jpeg:https://eomadrid.org/wp-content/uploads/2023/12/Learning-IA-18-Dic.jpg
END:VEVENT
END:VCALENDAR