BEGIN:VCALENDAR
VERSION:2.0
PRODID:-//EO MADRID - ECPv6.15.12.2//NONSGML v1.0//EN
CALSCALE:GREGORIAN
METHOD:PUBLISH
X-ORIGINAL-URL:https://eomadrid.org
X-WR-CALDESC:Eventos para EO MADRID
REFRESH-INTERVAL;VALUE=DURATION:PT1H
X-Robots-Tag:noindex
X-PUBLISHED-TTL:PT1H
BEGIN:VTIMEZONE
TZID:Europe/Madrid
BEGIN:DAYLIGHT
TZOFFSETFROM:+0100
TZOFFSETTO:+0200
TZNAME:CEST
DTSTART:20220327T010000
END:DAYLIGHT
BEGIN:STANDARD
TZOFFSETFROM:+0200
TZOFFSETTO:+0100
TZNAME:CET
DTSTART:20221030T010000
END:STANDARD
BEGIN:DAYLIGHT
TZOFFSETFROM:+0100
TZOFFSETTO:+0200
TZNAME:CEST
DTSTART:20230326T010000
END:DAYLIGHT
BEGIN:STANDARD
TZOFFSETFROM:+0200
TZOFFSETTO:+0100
TZNAME:CET
DTSTART:20231029T010000
END:STANDARD
BEGIN:DAYLIGHT
TZOFFSETFROM:+0100
TZOFFSETTO:+0200
TZNAME:CEST
DTSTART:20240331T010000
END:DAYLIGHT
BEGIN:STANDARD
TZOFFSETFROM:+0200
TZOFFSETTO:+0100
TZNAME:CET
DTSTART:20241027T010000
END:STANDARD
END:VTIMEZONE
BEGIN:VEVENT
DTSTART;TZID=Europe/Madrid:20230925T090000
DTEND;TZID=Europe/Madrid:20230925T123000
DTSTAMP:20260421T164141
CREATED:20230919T124148Z
LAST-MODIFIED:20230919T124148Z
UID:3841-1695632400-1695645000@eomadrid.org
SUMMARY:Learning y Social Impact con LAC Bridge
DESCRIPTION:Este evento de Learning y Social Impact organizado por LAC Bridge y EO Madrid es una magnífica oportunidad para conocer EOers de toda Latinoamérica. Tendrá lugar en el Hotel Fénix Gran Meliá de 9:00h a 12:30h. \nEl evento incluye una ponencia de Juan Ignacio Entrecanales\, vicepresidente del Grupo Acciona\, la cual será seguida por una sesión de networking entre capítulos. Una vez finalizado el networking\, tendremos un evento de Social Impact con la fundación Ayo (https://fundacionayo.org/) \nEl horario será el siguiente: \n9:00 – 11:00 Speaker Juan Ignacio Entrecanales Grupo Acciona y Networking. \n11:00 – 12:30 evento de Social Impact con la Fundación Ayo.\n\n\n\nREGÍSTRATE ANTES DEL 23 DE SEPTIEMBRE AQUÍ \n\n\n  \n  \n  \n 
URL:https://eomadrid.org/event/learning-y-social-impact-con-lac-bridge/
LOCATION:Hotel Fénix Gran Meliá\, Calle Hermosilla 2\, Madrid\, Madrid\, 28001\, España
CATEGORIES:LEARNING
ATTACH;FMTTYPE=image/jpeg:https://eomadrid.org/wp-content/uploads/2023/09/Learning-con-LAC-Bridge.jpg
END:VEVENT
END:VCALENDAR