BEGIN:VCALENDAR
VERSION:2.0
PRODID:-//EO MADRID - ECPv6.15.12.2//NONSGML v1.0//EN
CALSCALE:GREGORIAN
METHOD:PUBLISH
X-ORIGINAL-URL:https://eomadrid.org
X-WR-CALDESC:Eventos para EO MADRID
REFRESH-INTERVAL;VALUE=DURATION:PT1H
X-Robots-Tag:noindex
X-PUBLISHED-TTL:PT1H
BEGIN:VTIMEZONE
TZID:Europe/Madrid
BEGIN:DAYLIGHT
TZOFFSETFROM:+0100
TZOFFSETTO:+0200
TZNAME:CEST
DTSTART:20220327T010000
END:DAYLIGHT
BEGIN:STANDARD
TZOFFSETFROM:+0200
TZOFFSETTO:+0100
TZNAME:CET
DTSTART:20221030T010000
END:STANDARD
BEGIN:DAYLIGHT
TZOFFSETFROM:+0100
TZOFFSETTO:+0200
TZNAME:CEST
DTSTART:20230326T010000
END:DAYLIGHT
BEGIN:STANDARD
TZOFFSETFROM:+0200
TZOFFSETTO:+0100
TZNAME:CET
DTSTART:20231029T010000
END:STANDARD
BEGIN:DAYLIGHT
TZOFFSETFROM:+0100
TZOFFSETTO:+0200
TZNAME:CEST
DTSTART:20240331T010000
END:DAYLIGHT
BEGIN:STANDARD
TZOFFSETFROM:+0200
TZOFFSETTO:+0100
TZNAME:CET
DTSTART:20241027T010000
END:STANDARD
END:VTIMEZONE
BEGIN:VEVENT
DTSTART;TZID=Europe/Madrid:20230530T170000
DTEND;TZID=Europe/Madrid:20230530T200000
DTSTAMP:20260424T032317
CREATED:20221009T101453Z
LAST-MODIFIED:20230529T092332Z
UID:1853-1685466000-1685476800@eomadrid.org
SUMMARY:BOARD ampliado
DESCRIPTION:
URL:https://eomadrid.org/event/board-mayo-2023/
LOCATION:GSG Serrano\, C/ Serrano\, 110\, Madrid\, Madrid\, 28006\, España
CATEGORIES:BOARD
END:VEVENT
BEGIN:VEVENT
DTSTART;TZID=Europe/Madrid:20230530T203000
DTEND;TZID=Europe/Madrid:20230530T230000
DTSTAMP:20260424T032317
CREATED:20230309T184354Z
LAST-MODIFIED:20230529T092431Z
UID:2867-1685478600-1685487600@eomadrid.org
SUMMARY:CENA BOARD
DESCRIPTION:
URL:https://eomadrid.org/event/cena-board/
LOCATION:THE WAREHOUSE\, María de Molina\, 25\, Madrid\, Madrid\, 28006\, España
CATEGORIES:BOARD
END:VEVENT
END:VCALENDAR