BEGIN:VCALENDAR
VERSION:2.0
PRODID:-//EO MADRID - ECPv6.15.12.2//NONSGML v1.0//EN
CALSCALE:GREGORIAN
METHOD:PUBLISH
X-WR-CALNAME:EO MADRID
X-ORIGINAL-URL:https://eomadrid.org
X-WR-CALDESC:Eventos para EO MADRID
REFRESH-INTERVAL;VALUE=DURATION:PT1H
X-Robots-Tag:noindex
X-PUBLISHED-TTL:PT1H
BEGIN:VTIMEZONE
TZID:Europe/Madrid
BEGIN:DAYLIGHT
TZOFFSETFROM:+0100
TZOFFSETTO:+0200
TZNAME:CEST
DTSTART:20220327T010000
END:DAYLIGHT
BEGIN:STANDARD
TZOFFSETFROM:+0200
TZOFFSETTO:+0100
TZNAME:CET
DTSTART:20221030T010000
END:STANDARD
BEGIN:DAYLIGHT
TZOFFSETFROM:+0100
TZOFFSETTO:+0200
TZNAME:CEST
DTSTART:20230326T010000
END:DAYLIGHT
BEGIN:STANDARD
TZOFFSETFROM:+0200
TZOFFSETTO:+0100
TZNAME:CET
DTSTART:20231029T010000
END:STANDARD
BEGIN:DAYLIGHT
TZOFFSETFROM:+0100
TZOFFSETTO:+0200
TZNAME:CEST
DTSTART:20240331T010000
END:DAYLIGHT
BEGIN:STANDARD
TZOFFSETFROM:+0200
TZOFFSETTO:+0100
TZNAME:CET
DTSTART:20241027T010000
END:STANDARD
END:VTIMEZONE
BEGIN:VEVENT
DTSTART;VALUE=DATE:20230425
DTEND;VALUE=DATE:20230428
DTSTAMP:20260424T044633
CREATED:20221216T140443Z
LAST-MODIFIED:20221222T094914Z
UID:2515-1682380800-1682639999@eomadrid.org
SUMMARY:Global Leadership Conference (GLC)
DESCRIPTION:GLC website is now on https://events.eonetwork.org/2023glc/es/home/ \nThe registrations launch in January. \nLocation: Cape Town\, South Africa \nMain events will take place in the Cape Town Convention Center (CTICC) \nPress Release \nMain Contact for the event:            Helen Le Fleming \nRegistration Inquiries;                     Tori Haskins – events@eonetwork.org \nHotel Inquiries;                                  Carolina King & Kathryn Pope \nVisa Inquiries;                                    events@eonetwork.org \nAccommodation; We have secured room blocks for members at the following hotels in Cape Town: Westin\, Southern Sun Cullinan\, Southern Sun Waterfront\, AC Marriott \nAll these hotels are a 5 – 10 minute walk from the Cape Town International Convention Center\, and transportation to and from the venue at the start and end of the day will be provided for anyone unable to walk to the venue. \nOur room blocks are available from the 24th April – 28th April. A limited number of rooms will be available pre and post GLC. \nGLC 2023 Registration: Go Live is planned mid-January for both in-person and virtual attendance. The links to book hotel rooms will also be live at that time. \nAs a reminder\, we encourage all EO members to register themselves for GLC and not to book rooms until their attendance is confirmed. \nThe 2023 registration fee (over the 6 complimentary registrations per chapter) will be $1100. \nSchedule \nThe schedule is still being finalized but the conference will begin early on the morning of the 25th April and registration will open mid-late afternoon on the 24th April. \nRunning FAQ \n\nWhat tracks will be offered in-person for GLC?\n\nThere will be 12 tracks offered at GLC:\n\nAccelerator\nAD/RC\nFinance\nForum\nGSEA\nLearning\nMarketing / Communication\nMember Engagement\nMembership\nMyEO\nPresidents\nStrategic Alliances\n\n\n\n\n\nWHO CAN ATTEND?  Chapter Board attendance for in-person GLC Chapter Officer Training will be limited to one (1) Chapter Officer role\, per Chapter Officer track\, per chapter. For example\, only one Learning Chair-Elect may attend the Learning Track. The only exception to the rule is the President Elect-Elect\, who is invited to attend the Presidents track in addition to the President-Elect; other Elect-Elect positions will not be invited to attend GLC Chapter Officer Training. \nEach chapter is allowed 6 complimentary registrations.
URL:https://eomadrid.org/event/global-leadership-conference-glc/
CATEGORIES:BOARD
END:VEVENT
BEGIN:VEVENT
DTSTART;TZID=Europe/Madrid:20230425T170000
DTEND;TZID=Europe/Madrid:20230425T200000
DTSTAMP:20260424T044633
CREATED:20221009T101124Z
LAST-MODIFIED:20230419T080949Z
UID:1851-1682442000-1682452800@eomadrid.org
SUMMARY:BOARD ampliado
DESCRIPTION:
URL:https://eomadrid.org/event/board-ampliado-abril-2023/
CATEGORIES:BOARD
ORGANIZER;CN="Blanca Gener":MAILTO:alfredo.gonzalez@exico.es
END:VEVENT
END:VCALENDAR