BEGIN:VCALENDAR
VERSION:2.0
PRODID:-//EO MADRID - ECPv6.15.12.2//NONSGML v1.0//EN
CALSCALE:GREGORIAN
METHOD:PUBLISH
X-ORIGINAL-URL:https://eomadrid.org
X-WR-CALDESC:Eventos para EO MADRID
REFRESH-INTERVAL;VALUE=DURATION:PT1H
X-Robots-Tag:noindex
X-PUBLISHED-TTL:PT1H
BEGIN:VTIMEZONE
TZID:Europe/Madrid
BEGIN:DAYLIGHT
TZOFFSETFROM:+0100
TZOFFSETTO:+0200
TZNAME:CEST
DTSTART:20220327T010000
END:DAYLIGHT
BEGIN:STANDARD
TZOFFSETFROM:+0200
TZOFFSETTO:+0100
TZNAME:CET
DTSTART:20221030T010000
END:STANDARD
BEGIN:DAYLIGHT
TZOFFSETFROM:+0100
TZOFFSETTO:+0200
TZNAME:CEST
DTSTART:20230326T010000
END:DAYLIGHT
BEGIN:STANDARD
TZOFFSETFROM:+0200
TZOFFSETTO:+0100
TZNAME:CET
DTSTART:20231029T010000
END:STANDARD
BEGIN:DAYLIGHT
TZOFFSETFROM:+0100
TZOFFSETTO:+0200
TZNAME:CEST
DTSTART:20240331T010000
END:DAYLIGHT
BEGIN:STANDARD
TZOFFSETFROM:+0200
TZOFFSETTO:+0100
TZNAME:CET
DTSTART:20241027T010000
END:STANDARD
END:VTIMEZONE
BEGIN:VEVENT
DTSTART;TZID=Europe/Madrid:20230228T160000
DTEND;TZID=Europe/Madrid:20230228T180000
DTSTAMP:20260424T075505
CREATED:20221009T100908Z
LAST-MODIFIED:20230228T125933Z
UID:1847-1677600000-1677607200@eomadrid.org
SUMMARY:BOARD ampliado
DESCRIPTION:
URL:https://eomadrid.org/event/board-ampliado-febrero-2023/
CATEGORIES:BOARD
ORGANIZER;CN="Blanca Gener":MAILTO:alfredo.gonzalez@exico.es
END:VEVENT
END:VCALENDAR